BEGIN:VCALENDAR
VERSION:2.0
PRODID:icalendar-ruby
CALSCALE:GREGORIAN
BEGIN:VEVENT
DTSTAMP:20260420T083400Z
UID:3a98edf4-d156-4671-b8ef-433d7fc78aa4
DTSTART:20260428T000000
DTEND:20260428T030000
DESCRIPTION:Wage War live in concert at Rialto Theatre
LOCATION:Rialto Theatre\, Tucson\, AZ\, USA
ORGANIZER:mailto:events@ampwrecked.com
SUMMARY:Wage War - Wage War at Rialto Theatre
END:VEVENT
END:VCALENDAR
