BEGIN:VCALENDAR
VERSION:2.0
PRODID:icalendar-ruby
CALSCALE:GREGORIAN
BEGIN:VEVENT
DTSTAMP:20260420T100123Z
UID:32d9bbe3-9515-4204-ace4-6490e706acc2
DTSTART:20260328T000000
DTEND:20260328T030000
DESCRIPTION:she's green live in concert at Club Congress
LOCATION:Club Congress\, Tucson\, AZ\, USA
ORGANIZER:mailto:events@ampwrecked.com
SUMMARY:she's green - she's green at Club Congress
END:VEVENT
END:VCALENDAR
