BEGIN:VCALENDAR
VERSION:2.0
PRODID:icalendar-ruby
CALSCALE:GREGORIAN
BEGIN:VEVENT
DTSTAMP:20260420T100122Z
UID:395984d4-bdd6-4bfb-9852-4928e3a4c8a1
DTSTART:20260329T000000
DTEND:20260329T030000
DESCRIPTION:Currents live in concert at House of Blues Chicago
LOCATION:House of Blues Chicago\, Chicago\, IL\, USA
ORGANIZER:mailto:events@ampwrecked.com
SUMMARY:Currents - Currents at House of Blues Chicago
END:VEVENT
END:VCALENDAR
