BEGIN:VCALENDAR
VERSION:2.0
PRODID:icalendar-ruby
CALSCALE:GREGORIAN
BEGIN:VEVENT
DTSTAMP:20260420T100122Z
UID:ac9f4f19-ac7e-493e-bd8e-608e3733e108
DTSTART:20260328T000000
DTEND:20260328T030000
DESCRIPTION:Currents live in concert at House of Blues Chicago
LOCATION:House of Blues Chicago\, Chicago\, IL\, USA
ORGANIZER:mailto:events@ampwrecked.com
SUMMARY:Currents - Currents at House of Blues Chicago
END:VEVENT
END:VCALENDAR
