BEGIN:VCALENDAR
VERSION:2.0
PRODID:icalendar-ruby
CALSCALE:GREGORIAN
BEGIN:VEVENT
DTSTAMP:20260420T100131Z
UID:e2d802a9-4d68-46e4-975b-23f612bc4dfc
DTSTART:20260327T000000
DTEND:20260327T030000
DESCRIPTION:Currents live in concert at Saint Andrew's Hall
LOCATION:Saint Andrew's Hall\, Detroit\, MI\, USA
ORGANIZER:mailto:events@ampwrecked.com
SUMMARY:Currents - Currents at Saint Andrew's Hall
END:VEVENT
END:VCALENDAR
