BEGIN:VCALENDAR
VERSION:2.0
PRODID:icalendar-ruby
CALSCALE:GREGORIAN
BEGIN:VEVENT
DTSTAMP:20260420T100122Z
UID:610f79ca-ba25-48c2-ac6c-4c1bf0744413
DTSTART:20260322T000000
DTEND:20260322T030000
DESCRIPTION:Currents live in concert at Roxian Theatre Presented by Citizen
 s
LOCATION:Roxian Theatre Presented by Citizens\, McKees Rocks\, PA\, USA
ORGANIZER:mailto:events@ampwrecked.com
SUMMARY:Currents - Currents at Roxian Theatre Presented by Citizens
END:VEVENT
END:VCALENDAR
