BEGIN:VCALENDAR
VERSION:2.0
PRODID:icalendar-ruby
CALSCALE:GREGORIAN
BEGIN:VEVENT
DTSTAMP:20260420T083310Z
UID:f9adc4f5-f150-44ba-a805-c8cb9b0f4066
DTSTART:20260720T000000
DTEND:20260720T030000
DESCRIPTION:VRSTY live in concert at Anti-Everything Tour
LOCATION:Anti-Everything Tour\, Joliet\, IL\, USA
ORGANIZER:mailto:events@ampwrecked.com
SUMMARY:VRSTY - VRSTY at Anti-Everything Tour
END:VEVENT
END:VCALENDAR
