BEGIN:VCALENDAR
VERSION:2.0
PRODID:icalendar-ruby
CALSCALE:GREGORIAN
BEGIN:VEVENT
DTSTAMP:20260420T083459Z
UID:6968e8c8-b4d0-4469-a136-164afbf5d456
DTSTART:20260328T000000
DTEND:20260328T030000
DESCRIPTION:The Wonder Years live in concert at The Complex
LOCATION:The Complex\, Salt Lake City\, UT\, USA
ORGANIZER:mailto:events@ampwrecked.com
SUMMARY:The Wonder Years - The Wonder Years at The Complex
END:VEVENT
END:VCALENDAR
