BEGIN:VCALENDAR
VERSION:2.0
PRODID:icalendar-ruby
CALSCALE:GREGORIAN
BEGIN:VEVENT
DTSTAMP:20260420T083422Z
UID:c3be958f-7527-417f-935d-e12a7ed63ad5
DTSTART:20260326T000000
DTEND:20260326T030000
DESCRIPTION:The Wonder Years live in concert at Treefort Music Fest 2026
LOCATION:Treefort Music Fest 2026\, Boise\, ID\, USA
ORGANIZER:mailto:events@ampwrecked.com
SUMMARY:The Wonder Years - The Wonder Years at Treefort Music Fest 2026
END:VEVENT
END:VCALENDAR
