BEGIN:VCALENDAR
VERSION:2.0
PRODID:icalendar-ruby
CALSCALE:GREGORIAN
BEGIN:VEVENT
DTSTAMP:20260420T083359Z
UID:4c30c9f5-cbf9-4cff-8e7f-d6a51d65eea6
DTSTART:20260325T000000
DTEND:20260325T030000
DESCRIPTION:The Wonder Years live in concert at Showbox SoDo
LOCATION:Showbox SoDo\, Seattle\, WA\, USA
ORGANIZER:mailto:events@ampwrecked.com
SUMMARY:The Wonder Years - The Wonder Years at Showbox SoDo
END:VEVENT
END:VCALENDAR
