BEGIN:VCALENDAR
VERSION:2.0
PRODID:icalendar-ruby
CALSCALE:GREGORIAN
BEGIN:VEVENT
DTSTAMP:20260420T100124Z
UID:75581fe9-f689-4686-a3a1-5f85ef399fb6
DTSTART:20260408T000000
DTEND:20260408T030000
DESCRIPTION:The Browning live in concert at THE BROWNING Europe 2026
LOCATION:THE BROWNING Europe 2026\, Nürnberg\, \, Germany
ORGANIZER:mailto:events@ampwrecked.com
SUMMARY:The Browning - The Browning at THE BROWNING Europe 2026
END:VEVENT
END:VCALENDAR
