BEGIN:VCALENDAR
VERSION:2.0
PRODID:icalendar-ruby
CALSCALE:GREGORIAN
BEGIN:VEVENT
DTSTAMP:20260420T083254Z
UID:185c485a-4248-4070-88fa-bbf90b9b818a
DTSTART:20260322T000000
DTEND:20260322T030000
DESCRIPTION:Malicious Destruction Of Property live in concert at Ramova The
 atre
LOCATION:Ramova Theatre\, Chicago\, IL\, USA
ORGANIZER:mailto:events@ampwrecked.com
SUMMARY:Malicious Destruction Of Property - Malicious Destruction Of Proper
 ty at Ramova Theatre
END:VEVENT
END:VCALENDAR
