BEGIN:VCALENDAR
VERSION:2.0
PRODID:icalendar-ruby
CALSCALE:GREGORIAN
BEGIN:VEVENT
DTSTAMP:20260420T083310Z
UID:1da52480-10cf-4225-b0ce-b1962073f3a9
DTSTART:20260427T000000
DTEND:20260427T030000
DESCRIPTION:thrown live in concert at Strummer's
LOCATION:Strummer's\, Fresno\, CA\, USA
ORGANIZER:mailto:events@ampwrecked.com
SUMMARY:thrown - thrown at Strummer's
END:VEVENT
END:VCALENDAR
