BEGIN:VCALENDAR
VERSION:2.0
PRODID:icalendar-ruby
CALSCALE:GREGORIAN
BEGIN:VEVENT
DTSTAMP:20260420T100132Z
UID:b24a41fc-f786-45c1-9839-a551d0322fc0
DTSTART:20260329T000000
DTEND:20260329T030000
DESCRIPTION:No Pressure live in concert at Irving Plaza
LOCATION:Irving Plaza\, New York\, NY\, USA
ORGANIZER:mailto:events@ampwrecked.com
SUMMARY:No Pressure - No Pressure at Irving Plaza
END:VEVENT
END:VCALENDAR
