BEGIN:VCALENDAR
VERSION:2.0
PRODID:icalendar-ruby
CALSCALE:GREGORIAN
BEGIN:VEVENT
DTSTAMP:20260420T083359Z
UID:01988d8d-d930-4098-af13-ec2fbee3c6ca
DTSTART:20260515T000000
DTEND:20260515T030000
DESCRIPTION:Millington live in concert at Millington in Dallas\, TX @ Puzzl
 es
LOCATION:Millington in Dallas\, TX @ Puzzles\, Dallas\, TX\, USA
ORGANIZER:mailto:events@ampwrecked.com
SUMMARY:Millington - Millington at Millington in Dallas\, TX @ Puzzles
END:VEVENT
END:VCALENDAR
