BEGIN:VCALENDAR
VERSION:2.0
PRODID:icalendar-ruby
CALSCALE:GREGORIAN
BEGIN:VEVENT
DTSTAMP:20260420T083359Z
UID:e2afc83e-c013-4f2c-a0ef-143d44f64d7e
DTSTART:20260503T000000
DTEND:20260503T030000
DESCRIPTION:Signals Midwest live in concert at Crossroads
LOCATION:Crossroads\, Garwood\, NJ\, USA
ORGANIZER:mailto:events@ampwrecked.com
SUMMARY:Signals Midwest - Signals Midwest at Crossroads
END:VEVENT
END:VCALENDAR
