BEGIN:VCALENDAR
VERSION:2.0
PRODID:icalendar-ruby
CALSCALE:GREGORIAN
BEGIN:VEVENT
DTSTAMP:20260420T083253Z
UID:e30f1d18-efd6-45e9-80f4-a3e1ab57ad0c
DTSTART:20260603T000000
DTEND:20260603T030000
DESCRIPTION:Killswitch Engage live in concert at Killswitch Engage
LOCATION:Killswitch Engage\, Detroit\, MI\, USA
ORGANIZER:mailto:events@ampwrecked.com
SUMMARY:Killswitch Engage - Killswitch Engage at Killswitch Engage
END:VEVENT
END:VCALENDAR
