BEGIN:VCALENDAR
VERSION:2.0
PRODID:icalendar-ruby
CALSCALE:GREGORIAN
BEGIN:VEVENT
DTSTAMP:20260420T083254Z
UID:d928e11e-f575-40dc-b651-fb2d66a0f34a
DTSTART:20260327T000000
DTEND:20260327T030000
DESCRIPTION:Bad Omens live in concert at DO YOU FEEL LOVE NORTH AMERICA 202
 6
LOCATION:DO YOU FEEL LOVE NORTH AMERICA 2026\, Oakland\, CA\, USA
ORGANIZER:mailto:events@ampwrecked.com
SUMMARY:Bad Omens - Bad Omens at DO YOU FEEL LOVE NORTH AMERICA 2026
END:VEVENT
END:VCALENDAR
