BEGIN:VCALENDAR
VERSION:2.0
PRODID:icalendar-ruby
CALSCALE:GREGORIAN
BEGIN:VEVENT
DTSTAMP:20260420T083420Z
UID:d4cacc4a-d283-44bc-9af1-bc4511aac088
DTSTART:20260326T000000
DTEND:20260326T030000
DESCRIPTION:Bad Omens live in concert at DO YOU FEEL LOVE NORTH AMERICA 202
 6
LOCATION:DO YOU FEEL LOVE NORTH AMERICA 2026\, Inglewood\, CA\, USA
ORGANIZER:mailto:events@ampwrecked.com
SUMMARY:Bad Omens - Bad Omens at DO YOU FEEL LOVE NORTH AMERICA 2026
END:VEVENT
END:VCALENDAR
