BEGIN:VCALENDAR
VERSION:2.0
PRODID:icalendar-ruby
CALSCALE:GREGORIAN
BEGIN:VEVENT
DTSTAMP:20260420T083255Z
UID:ba84ea29-abd7-4740-849a-a577e5502e5a
DTSTART:20260324T000000
DTEND:20260324T030000
DESCRIPTION:Bad Omens live in concert at DO YOU FEEL LOVE NORTH AMERICA 202
 6
LOCATION:DO YOU FEEL LOVE NORTH AMERICA 2026\, Glendale\, AZ\, USA
ORGANIZER:mailto:events@ampwrecked.com
SUMMARY:Bad Omens - Bad Omens at DO YOU FEEL LOVE NORTH AMERICA 2026
END:VEVENT
END:VCALENDAR
