BEGIN:VCALENDAR
VERSION:2.0
PRODID:icalendar-ruby
CALSCALE:GREGORIAN
BEGIN:VEVENT
DTSTAMP:20260420T083359Z
UID:87f8ba4b-9401-4fc5-bc0d-c9c9dc3a57b6
DTSTART:20260322T000000
DTEND:20260322T030000
DESCRIPTION:Bad Omens live in concert at DO YOU FEEL LOVE NORTH AMERICA 202
 6
LOCATION:DO YOU FEEL LOVE NORTH AMERICA 2026\, Oklahoma City\, OK\, USA
ORGANIZER:mailto:events@ampwrecked.com
SUMMARY:Bad Omens - Bad Omens at DO YOU FEEL LOVE NORTH AMERICA 2026
END:VEVENT
END:VCALENDAR
