BEGIN:VCALENDAR
VERSION:2.0
PRODID:icalendar-ruby
CALSCALE:GREGORIAN
BEGIN:VEVENT
DTSTAMP:20260420T095636Z
UID:1711d09c-f5f6-418c-b890-084c6f13eef4
DTSTART:20260331T000000
DTEND:20260331T030000
DESCRIPTION:Virginia's Basement live in concert at The Glasgow Royal Concer
 t Hall
LOCATION:The Glasgow Royal Concert Hall\, Glasgow\, \, United Kingdom
ORGANIZER:mailto:events@ampwrecked.com
SUMMARY:Virginia's Basement - Virginia's Basement at The Glasgow Royal Conc
 ert Hall
END:VEVENT
END:VCALENDAR
