BEGIN:VCALENDAR
VERSION:2.0
PRODID:icalendar-ruby
CALSCALE:GREGORIAN
BEGIN:VEVENT
DTSTAMP:20260420T083253Z
UID:6363e1ce-18bf-4a01-9098-737cd453a4cb
DTSTART:20260330T000000
DTEND:20260330T030000
DESCRIPTION:Dashboard Confessional live in concert at GFL Memorial Gardens
LOCATION:GFL Memorial Gardens\, Sault Ste. Marie\, ON\, USA
ORGANIZER:mailto:events@ampwrecked.com
SUMMARY:Dashboard Confessional - Dashboard Confessional at GFL Memorial Gar
 dens
END:VEVENT
END:VCALENDAR
