BEGIN:VCALENDAR
VERSION:2.0
PRODID:icalendar-ruby
CALSCALE:GREGORIAN
BEGIN:VEVENT
DTSTAMP:20260420T083416Z
UID:bde9ef79-0535-4a1c-babe-5d9505ab26f5
DTSTART:20260624T000000
DTEND:20260624T030000
DESCRIPTION:Agnostic Front live in concert at Kubana
LOCATION:Kubana\, Siegburg\, \, Germany
ORGANIZER:mailto:events@ampwrecked.com
SUMMARY:Agnostic Front - Agnostic Front at Kubana
END:VEVENT
END:VCALENDAR
