BEGIN:VCALENDAR
VERSION:2.0
PRODID:icalendar-ruby
CALSCALE:GREGORIAN
BEGIN:VEVENT
DTSTAMP:20260420T083456Z
UID:531b5593-b71a-4139-a9f1-0b41c73fc8f3
DTSTART:20260626T000000
DTEND:20260626T030000
DESCRIPTION:The Front Bottoms live in concert at Outbreak Fest 2026
LOCATION:Outbreak Fest 2026\, Stretford\, \, United Kingdom
ORGANIZER:mailto:events@ampwrecked.com
SUMMARY:The Front Bottoms - The Front Bottoms at Outbreak Fest 2026
END:VEVENT
END:VCALENDAR
