BEGIN:VCALENDAR
VERSION:2.0
PRODID:icalendar-ruby
CALSCALE:GREGORIAN
BEGIN:VEVENT
DTSTAMP:20260420T123206Z
UID:45911ca4-00c0-474d-bd3b-ea01c12113ac
DTSTART:20260607T000000
DTEND:20260607T030000
DESCRIPTION:The Offspring live in concert at Rock am Ring 2026
LOCATION:Rock am Ring 2026\, Nürburg\, \, Germany
ORGANIZER:mailto:events@ampwrecked.com
SUMMARY:The Offspring - The Offspring at Rock am Ring 2026
END:VEVENT
END:VCALENDAR
