BEGIN:VCALENDAR
VERSION:2.0
PRODID:icalendar-ruby
CALSCALE:GREGORIAN
BEGIN:VEVENT
DTSTAMP:20260420T083359Z
UID:dcde32f6-5e72-47ac-8e5f-29f53b365345
DTSTART:20260606T000000
DTEND:20260606T030000
DESCRIPTION:The Offspring live in concert at Rock im Park 2026
LOCATION:Rock im Park 2026\, Nürnberg\, \, Germany
ORGANIZER:mailto:events@ampwrecked.com
SUMMARY:The Offspring - The Offspring at Rock im Park 2026
END:VEVENT
END:VCALENDAR
