BEGIN:VCALENDAR
VERSION:2.0
PRODID:icalendar-ruby
CALSCALE:GREGORIAN
BEGIN:VEVENT
DTSTAMP:20260420T083252Z
UID:416bb520-45c1-424c-80bf-c43381df8ea1
DTSTART:20260603T000000
DTEND:20260603T030000
DESCRIPTION:The Offspring live in concert at Sweden Rock Festival 2026
LOCATION:Sweden Rock Festival 2026\, Sölvesborg\, \, Sweden
ORGANIZER:mailto:events@ampwrecked.com
SUMMARY:The Offspring - The Offspring at Sweden Rock Festival 2026
END:VEVENT
END:VCALENDAR
