BEGIN:VCALENDAR
VERSION:2.0
PRODID:icalendar-ruby
CALSCALE:GREGORIAN
BEGIN:VEVENT
DTSTAMP:20260420T083252Z
UID:1d5e54b4-2432-40a9-83ce-8fb131b64de9
DTSTART:20260331T000000
DTEND:20260331T030000
DESCRIPTION:Heavy//Hitter live in concert at Handlebar
LOCATION:Handlebar\, Pensacola\, FL\, USA
ORGANIZER:mailto:events@ampwrecked.com
SUMMARY:Heavy//Hitter - Heavy//Hitter at Handlebar
END:VEVENT
END:VCALENDAR
