BEGIN:VCALENDAR
VERSION:2.0
PRODID:icalendar-ruby
CALSCALE:GREGORIAN
BEGIN:VEVENT
DTSTAMP:20260420T083254Z
UID:223b5694-f76d-4c14-9e85-cc7fa31878b5
DTSTART:20260328T000000
DTEND:20260328T030000
DESCRIPTION:Heavy//Hitter live in concert at Beer City Music Hall
LOCATION:Beer City Music Hall\, Oklahoma City\, OK\, USA
ORGANIZER:mailto:events@ampwrecked.com
SUMMARY:Heavy//Hitter - Heavy//Hitter at Beer City Music Hall
END:VEVENT
END:VCALENDAR
