BEGIN:VCALENDAR
VERSION:2.0
PRODID:icalendar-ruby
CALSCALE:GREGORIAN
BEGIN:VEVENT
DTSTAMP:20260420T083221Z
UID:02e4cba9-937b-4622-8998-67fc4c7b6eac
DTSTART:20260325T000000
DTEND:20260325T030000
DESCRIPTION:Heavy//Hitter live in concert at The Nile Theater
LOCATION:The Nile Theater\, Mesa\, AZ\, USA
ORGANIZER:mailto:events@ampwrecked.com
SUMMARY:Heavy//Hitter - Heavy//Hitter at The Nile Theater
END:VEVENT
END:VCALENDAR
