BEGIN:VCALENDAR
VERSION:2.0
PRODID:icalendar-ruby
CALSCALE:GREGORIAN
BEGIN:VEVENT
DTSTAMP:20260420T083223Z
UID:d689dc60-d4a2-4ff0-b982-f6f5fb2063b2
DTSTART:20261009T000000
DTEND:20261009T030000
DESCRIPTION:The Potato Pirates live in concert at Ogden Theatre
LOCATION:Ogden Theatre\, Denver\, CO\, USA
ORGANIZER:mailto:events@ampwrecked.com
SUMMARY:The Potato Pirates - The Potato Pirates at Ogden Theatre
END:VEVENT
END:VCALENDAR
