BEGIN:VCALENDAR
VERSION:2.0
PRODID:icalendar-ruby
CALSCALE:GREGORIAN
BEGIN:VEVENT
DTSTAMP:20260420T083400Z
UID:6ae053bc-7594-4d91-b6d2-ef17285cfde5
DTSTART:20261030T000000
DTEND:20261030T030000
DESCRIPTION:Swervedriver live in concert at Brudenell Social Club
LOCATION:Brudenell Social Club\, Leeds\, \, United Kingdom
ORGANIZER:mailto:events@ampwrecked.com
SUMMARY:Swervedriver - Swervedriver at Brudenell Social Club
END:VEVENT
END:VCALENDAR
