BEGIN:VCALENDAR
VERSION:2.0
PRODID:icalendar-ruby
CALSCALE:GREGORIAN
BEGIN:VEVENT
DTSTAMP:20260420T084920Z
UID:54122cf9-6053-4063-a42f-3ec225fdebb1
DTSTART:20261027T000000
DTEND:20261027T030000
DESCRIPTION:Swervedriver live in concert at The Fleece
LOCATION:The Fleece\, Bristol\, \, United Kingdom
ORGANIZER:mailto:events@ampwrecked.com
SUMMARY:Swervedriver - Swervedriver at The Fleece
END:VEVENT
END:VCALENDAR
