BEGIN:VCALENDAR
VERSION:2.0
PRODID:icalendar-ruby
CALSCALE:GREGORIAN
BEGIN:VEVENT
DTSTAMP:20260420T083309Z
UID:69c5b93a-6529-43ae-92b2-0aac7baef7c2
DTSTART:20260620T000000
DTEND:20260620T030000
DESCRIPTION:Pulley live in concert at The Wood Shop
LOCATION:The Wood Shop\, New York City\, NY\, USA
ORGANIZER:mailto:events@ampwrecked.com
SUMMARY:Pulley - Pulley at The Wood Shop
END:VEVENT
END:VCALENDAR
