BEGIN:VCALENDAR
VERSION:2.0
PRODID:icalendar-ruby
CALSCALE:GREGORIAN
BEGIN:VEVENT
DTSTAMP:20260420T083359Z
UID:f4762188-5b3a-48bc-a08c-5fef9df9ce1b
DTSTART:20260923T000000
DTEND:20260923T030000
DESCRIPTION:Alkaline Trio live in concert at Moody Amphitheater
LOCATION:Moody Amphitheater\, Austin\, TX\, USA
ORGANIZER:mailto:events@ampwrecked.com
SUMMARY:Alkaline Trio - Alkaline Trio at Moody Amphitheater
END:VEVENT
END:VCALENDAR
