BEGIN:VCALENDAR
VERSION:2.0
PRODID:icalendar-ruby
CALSCALE:GREGORIAN
BEGIN:VEVENT
DTSTAMP:20260420T083253Z
UID:f36313c1-1031-433f-ba1a-e892291713dc
DTSTART:20260922T000000
DTEND:20260922T030000
DESCRIPTION:Alkaline Trio live in concert at South Side Ballroom
LOCATION:South Side Ballroom\, Dallas\, TX\, USA
ORGANIZER:mailto:events@ampwrecked.com
SUMMARY:Alkaline Trio - Alkaline Trio at South Side Ballroom
END:VEVENT
END:VCALENDAR
