BEGIN:VCALENDAR
VERSION:2.0
PRODID:icalendar-ruby
CALSCALE:GREGORIAN
BEGIN:VEVENT
DTSTAMP:20260420T103127Z
UID:c8b156ae-3953-4636-b76e-d8ca13c56d1e
DTSTART:20260616T000000
DTEND:20260616T030000
DESCRIPTION:Nightmare Of You live in concert at Brandon Reilly (Nightmare O
 f You set)
LOCATION:Brandon Reilly (Nightmare Of You set)\, Baltimore\, MD\, USA
ORGANIZER:mailto:events@ampwrecked.com
SUMMARY:Nightmare Of You - Nightmare Of You at Brandon Reilly (Nightmare Of
  You set)
END:VEVENT
END:VCALENDAR
