BEGIN:VCALENDAR
VERSION:2.0
PRODID:icalendar-ruby
CALSCALE:GREGORIAN
BEGIN:VEVENT
DTSTAMP:20260420T083308Z
UID:8be5c6df-73b4-48bf-aef5-29742923a7e7
DTSTART:20260620T000000
DTEND:20260620T030000
DESCRIPTION:The Virus live in concert at Camp Punksylvania 2026
LOCATION:Camp Punksylvania 2026\, Gilbert\, PA\, USA
ORGANIZER:mailto:events@ampwrecked.com
SUMMARY:The Virus - The Virus at Camp Punksylvania 2026
END:VEVENT
END:VCALENDAR
