BEGIN:VCALENDAR
VERSION:2.0
PRODID:icalendar-ruby
CALSCALE:GREGORIAN
BEGIN:VEVENT
DTSTAMP:20260420T083644Z
UID:10d77097-2be5-4d7e-8653-7ce2b9d4ca05
DTSTART:20260619T000000
DTEND:20260619T030000
DESCRIPTION:Seven Blood live in concert at FZW
LOCATION:FZW\, Dortmund\, \, Germany
ORGANIZER:mailto:events@ampwrecked.com
SUMMARY:Seven Blood - Seven Blood at FZW
END:VEVENT
END:VCALENDAR
