BEGIN:VCALENDAR
VERSION:2.0
PRODID:icalendar-ruby
CALSCALE:GREGORIAN
BEGIN:VEVENT
DTSTAMP:20260421T084042Z
UID:d59f79a3-cc8e-4742-bdac-f560ce3776c9
DTSTART:20260321T000000
DTEND:20260321T030000
DESCRIPTION:I See Stars live in concert at AFTER / DARK (Official Afterpart
 y)
LOCATION:AFTER / DARK (Official Afterparty)\, Las Vegas\, NV\, USA
ORGANIZER:mailto:events@ampwrecked.com
SUMMARY:I See Stars - I See Stars at AFTER / DARK (Official Afterparty)
END:VEVENT
END:VCALENDAR
