BEGIN:VCALENDAR
VERSION:2.0
PRODID:icalendar-ruby
CALSCALE:GREGORIAN
BEGIN:VEVENT
DTSTAMP:20260420T083416Z
UID:a2a252a6-74ad-4364-870e-18a08405dc5c
DTSTART:20260821T000000
DTEND:20260821T030000
DESCRIPTION:LEECH live in concert at Konzerthaus Schüür
LOCATION:Konzerthaus Schüür\, Lucerne\, \, Switzerland
ORGANIZER:mailto:events@ampwrecked.com
SUMMARY:LEECH - LEECH at Konzerthaus Schüür
END:VEVENT
END:VCALENDAR
