BEGIN:VCALENDAR
VERSION:2.0
PRODID:icalendar-ruby
CALSCALE:GREGORIAN
BEGIN:VEVENT
DTSTAMP:20260420T083307Z
UID:567230bc-80f5-406b-aa30-ede3251c98aa
DTSTART:20260328T000000
DTEND:20260328T030000
DESCRIPTION:Slow Crush live in concert at Club Congress
LOCATION:Club Congress\, Tucson\, AZ\, USA
ORGANIZER:mailto:events@ampwrecked.com
SUMMARY:Slow Crush - Slow Crush at Club Congress
END:VEVENT
END:VCALENDAR
