BEGIN:VCALENDAR
VERSION:2.0
PRODID:icalendar-ruby
CALSCALE:GREGORIAN
BEGIN:VEVENT
DTSTAMP:20260420T083400Z
UID:ea670744-3ba8-4d72-85a1-605b2eab5fe6
DTSTART:20260327T000000
DTEND:20260327T030000
DESCRIPTION:Slow Crush live in concert at Grey Witch
LOCATION:Grey Witch\, Henderson\, NV\, USA
ORGANIZER:mailto:events@ampwrecked.com
SUMMARY:Slow Crush - Slow Crush at Grey Witch
END:VEVENT
END:VCALENDAR
