BEGIN:VCALENDAR
VERSION:2.0
PRODID:icalendar-ruby
CALSCALE:GREGORIAN
BEGIN:VEVENT
DTSTAMP:20260420T083221Z
UID:f5156bdf-f78a-420e-b82e-ac4450143aca
DTSTART:20260325T000000
DTEND:20260325T030000
DESCRIPTION:Slow Crush live in concert at Slow Crush\, She’s Green\, Spit
 e House at strummers
LOCATION:Slow Crush\, She’s Green\, Spite House at strummers\, Fresno\, C
 A\, USA
ORGANIZER:mailto:events@ampwrecked.com
SUMMARY:Slow Crush - Slow Crush at Slow Crush\, She’s Green\, Spite House
  at strummers
END:VEVENT
END:VCALENDAR
