BEGIN:VCALENDAR
VERSION:2.0
PRODID:icalendar-ruby
CALSCALE:GREGORIAN
BEGIN:VEVENT
DTSTAMP:20260420T083400Z
UID:4170fdfe-c005-44ce-907c-3a7cae19be9e
DTSTART:20260324T000000
DTEND:20260324T030000
DESCRIPTION:Slow Crush live in concert at Harlow's
LOCATION:Harlow's\, Sacramento\, CA\, USA
ORGANIZER:mailto:events@ampwrecked.com
SUMMARY:Slow Crush - Slow Crush at Harlow's
END:VEVENT
END:VCALENDAR
