BEGIN:VCALENDAR
VERSION:2.0
PRODID:icalendar-ruby
CALSCALE:GREGORIAN
BEGIN:VEVENT
DTSTAMP:20260420T083255Z
UID:50eb5aa9-d117-40ee-8f48-4af49c00378a
DTSTART:20260322T000000
DTEND:20260322T030000
DESCRIPTION:Slow Crush live in concert at The Pearl
LOCATION:The Pearl\, Vancouver\, BC\, USA
ORGANIZER:mailto:events@ampwrecked.com
SUMMARY:Slow Crush - Slow Crush at The Pearl
END:VEVENT
END:VCALENDAR
