BEGIN:VCALENDAR
VERSION:2.0
PRODID:icalendar-ruby
CALSCALE:GREGORIAN
BEGIN:VEVENT
DTSTAMP:20260420T083254Z
UID:689e0be7-b10a-4ab3-aafc-705f8d0ea0b4
DTSTART:20260321T000000
DTEND:20260321T030000
DESCRIPTION:Slow Crush live in concert at Airport Tavern
LOCATION:Airport Tavern\, Tacoma\, WA\, USA
ORGANIZER:mailto:events@ampwrecked.com
SUMMARY:Slow Crush - Slow Crush at Airport Tavern
END:VEVENT
END:VCALENDAR
