BEGIN:VCALENDAR
VERSION:2.0
PRODID:icalendar-ruby
CALSCALE:GREGORIAN
BEGIN:VEVENT
DTSTAMP:20260421T083906Z
UID:6bfd0775-5d0e-4e8e-abe5-ceb11cd08260
DTSTART:20260327T000000
DTEND:20260327T030000
DESCRIPTION:saturdays at your place live in concert at 40 Watt Club
LOCATION:40 Watt Club\, Athens\, GA\, USA
ORGANIZER:mailto:events@ampwrecked.com
SUMMARY:saturdays at your place - saturdays at your place at 40 Watt Club
END:VEVENT
END:VCALENDAR
