BEGIN:VCALENDAR
VERSION:2.0
PRODID:icalendar-ruby
CALSCALE:GREGORIAN
BEGIN:VEVENT
DTSTAMP:20260420T083254Z
UID:8fa86218-d0e6-430d-90da-56ad5723f731
DTSTART:20260508T000000
DTEND:20260508T030000
DESCRIPTION:ExitWounds live in concert at Afterlife Live Performance Record
 ing Studio
LOCATION:Afterlife Live Performance Recording Studio\, Akron\, OH\, USA
ORGANIZER:mailto:events@ampwrecked.com
SUMMARY:ExitWounds - ExitWounds at Afterlife Live Performance Recording Stu
 dio
END:VEVENT
END:VCALENDAR
